BEGIN:VCALENDAR
VERSION:2.0
PRODID:-//Olio Poldo - ECPv6.4.0.1//NONSGML v1.0//EN
CALSCALE:GREGORIAN
METHOD:PUBLISH
X-ORIGINAL-URL:https://www.oliopoldo.it
X-WR-CALDESC:Eventi per Olio Poldo
REFRESH-INTERVAL;VALUE=DURATION:PT1H
X-Robots-Tag:noindex
X-PUBLISHED-TTL:PT1H
BEGIN:VTIMEZONE
TZID:Europe/Helsinki
BEGIN:DAYLIGHT
TZOFFSETFROM:+0200
TZOFFSETTO:+0300
TZNAME:EEST
DTSTART:20250330T010000
END:DAYLIGHT
BEGIN:STANDARD
TZOFFSETFROM:+0300
TZOFFSETTO:+0200
TZNAME:EET
DTSTART:20251026T010000
END:STANDARD
END:VTIMEZONE
BEGIN:VEVENT
DTSTART;TZID=Europe/Helsinki:20250216T200000
DTEND;TZID=Europe/Helsinki:20250216T233000
DTSTAMP:20260425T071332
CREATED:20250129T163703Z
LAST-MODIFIED:20250129T163703Z
UID:8321-1739736000-1739748600@www.oliopoldo.it
SUMMARY:WINE & CHEESE PARTY
DESCRIPTION:Dall’incredibile successo riscosso l’anno scorso\, ritorna l’evento “Wine & Cheese Party” nella nostra enoteca! \nE’ l’evento che unisce due categorie di persone: \n\nchi ama il formaggio\nchi ama il vino\n\nAh dimenticavamo : \n\nchi gli piace star bene 😋\n\nSì perché sarà una cena conviviale\, dinamica e alternativa. \nSi conosceranno nuove persone\, ci si guarderà negli occhi\, ci si scambieranno delle opinioni  e saranno serviti i prodotti selezionati da noi\, per voi. \nWINE & CHEESE è il format che fa assaporare prodotti del territorio in abbinamento fra loro in un ambiente rilassante e intimo \nDurante la serata proponiamo una degustazione di 5 formaggi dell’Agricola Piandelmedico di Jesi abbinati a dei vini. Si prosegue con una cena che ha l’obiettivo di valorizzare i nostri prodotti\n\n✍🏻I momenti enogastronomici saranno alternati a momenti formativi in cui verranno date delle informazioni base per degustare al meglio formaggi e vino ✍🏻\n\n€ 50\,00 | comprende la degustazione e la cena | il vino della cena è incluso \n\nI prossimi giorni saranno pubblicati il nome dei formaggi\, il vino e il menu\nle prenotazioni sono aperte da questo momento388 3717338 | federico.polacco@oliopoldo.itvi ricordiamo che i posti sono limitati\n  \n  \nCondividi
URL:https://www.oliopoldo.it/event/wine-cheese-party/
LOCATION:Boutique Olio Poldo\, Via Crucianelli 1\, Castelfidardo\, 60022\, Italia
ATTACH;FMTTYPE=image/png:https://www.oliopoldo.it/wp-content/uploads/2025/01/1-1.png
ORGANIZER;CN="FedPol":MAILTO:federico.polacco@oliopoldo.it
END:VEVENT
END:VCALENDAR