BEGIN:VCALENDAR
VERSION:2.0
PRODID:-//Olio Poldo - ECPv6.4.0.1//NONSGML v1.0//EN
CALSCALE:GREGORIAN
METHOD:PUBLISH
X-ORIGINAL-URL:https://www.oliopoldo.it
X-WR-CALDESC:Eventi per Olio Poldo
REFRESH-INTERVAL;VALUE=DURATION:PT1H
X-Robots-Tag:noindex
X-PUBLISHED-TTL:PT1H
BEGIN:VTIMEZONE
TZID:Europe/Helsinki
BEGIN:DAYLIGHT
TZOFFSETFROM:+0200
TZOFFSETTO:+0300
TZNAME:EEST
DTSTART:20250330T010000
END:DAYLIGHT
BEGIN:STANDARD
TZOFFSETFROM:+0300
TZOFFSETTO:+0200
TZNAME:EET
DTSTART:20251026T010000
END:STANDARD
END:VTIMEZONE
BEGIN:VEVENT
DTSTART;TZID=Europe/Helsinki:20250223T200000
DTEND;TZID=Europe/Helsinki:20250223T233000
DTSTAMP:20260425T071340
CREATED:20250129T165347Z
LAST-MODIFIED:20250210T082132Z
UID:8325-1740340800-1740353400@www.oliopoldo.it
SUMMARY:IL CIBO E' CONDIVISIONE  - Showcooking con Walter Beccaceci chef della Ginestra in Fiore
DESCRIPTION:Avete mai provato la cura e la raffinatezza della mano dello Chef Walter Beccaceci nel suoi piatti? \nBhe\, questo è il momento e il posto giusto!\nDirettamente dalla Ginestra in Fiore di Sirolo\, per una sera e solo per noi\, il giovane e all’avanguardia chef del rinomato ristorante!! \nSarà l’occasione per vedere da vicino la preparazione di alcune ricette culinarie\, scoprire tecniche e segreti\, per confrontarsi direttamente con un professionista perché Walter sarà proprio di fronte a noi per lo showcooking e risponderà a tutte le nostre curiosità. \nChe dire\, sarà un’occasione unica! \n\n🕣Inizio evento ore 20:00🕣\n\n\n\nIl prezzo dell’esperienza è di €54\,00 \n\n\n🍝Nei prossimi giorni sarà svelato il menù 🍝\n\n\nL’evento si svolgerà nella nostra enoteca in via Crucianelli 1 a Castelfidardo \nInfo e prenotazioni 388 371 7338\n\n\n\n\n\n\n  \n  \n  \nCondividi
URL:https://www.oliopoldo.it/event/il-cibo-e-condivisione-showcooking-con-walter-beccacece-chef-della-ginestra-in-fiore/
LOCATION:Boutique Olio Poldo\, Via Crucianelli 1\, Castelfidardo\, 60022\, Italia
ATTACH;FMTTYPE=image/png:https://www.oliopoldo.it/wp-content/uploads/2025/01/POST.png
END:VEVENT
END:VCALENDAR