BEGIN:VCALENDAR
VERSION:2.0
PRODID:-//Olio Poldo - ECPv6.4.0.1//NONSGML v1.0//EN
CALSCALE:GREGORIAN
METHOD:PUBLISH
X-WR-CALNAME:Olio Poldo
X-ORIGINAL-URL:https://www.oliopoldo.it
X-WR-CALDESC:Eventi per Olio Poldo
REFRESH-INTERVAL;VALUE=DURATION:PT1H
X-Robots-Tag:noindex
X-PUBLISHED-TTL:PT1H
BEGIN:VTIMEZONE
TZID:Europe/Helsinki
BEGIN:DAYLIGHT
TZOFFSETFROM:+0200
TZOFFSETTO:+0300
TZNAME:EEST
DTSTART:20250330T010000
END:DAYLIGHT
BEGIN:STANDARD
TZOFFSETFROM:+0300
TZOFFSETTO:+0200
TZNAME:EET
DTSTART:20251026T010000
END:STANDARD
END:VTIMEZONE
BEGIN:VEVENT
DTSTART;TZID=Europe/Helsinki:20250228T200000
DTEND;TZID=Europe/Helsinki:20250228T233000
DTSTAMP:20260425T071217
CREATED:20250130T090647Z
LAST-MODIFIED:20250130T090734Z
UID:8331-1740772800-1740785400@www.oliopoldo.it
SUMMARY:L'OLIO E' CONDIVISIONE
DESCRIPTION:Lo showcooking di cui avevamo tutti bisogno. \nLa chef Tatiana Accarrino ci delizierà con delle sue preparazioni ma non vi preoccupate\, l’olio evo sarà il filo portante di tutta la cena! \nL’OLIO E’ CONDIVISIONE è il format primario di una serie di cene di condivisione. L’obiettivo è di comunicare e imparare facendo quell’azione primordiale che svolgiamo inconsapevolmente durante l’arco della giornata e ripetutivamente: mangiare \nCi divertiremo perché non mancheranno momenti di chiacchiere e risate\, questo è assicurato alla Olio Poldo \n€ 50\,00 | comprende degustazione di olio\, showcooking\, cena e vino \n🇽🇪 🇧🇷 🇮🇹 🍝Tatiana Accarrino è una chef internazionale e con lei si possono parlare tante lingue\, inglese\, italiano\, brasialiano ma quella che preferisce sicuramente è la lingua del cibo e noi condividiamo! 🇽🇪 🇧🇷 🇮🇹 🍝 \n  \nNei prossimi giorni sarà svelato il menù \n🕣 L’evento inizia alle 20:00 🕣 \n♥️ le prenotazioni sono aperte ♥️ \n  \nInfo e prenotazioni 388 371 7338 \nCondividi
URL:https://www.oliopoldo.it/event/lolio-e-condivisione-3/
LOCATION:Boutique Olio Poldo\, Via Crucianelli 1\, Castelfidardo\, 60022\, Italia
ATTACH;FMTTYPE=image/png:https://www.oliopoldo.it/wp-content/uploads/2025/01/POST-INSTA-NUOVO.png
END:VEVENT
END:VCALENDAR