BEGIN:VCALENDAR
VERSION:2.0
PRODID:-//Olio Poldo - ECPv6.4.0.1//NONSGML v1.0//EN
CALSCALE:GREGORIAN
METHOD:PUBLISH
X-WR-CALNAME:Olio Poldo
X-ORIGINAL-URL:https://www.oliopoldo.it
X-WR-CALDESC:Eventi per Olio Poldo
REFRESH-INTERVAL;VALUE=DURATION:PT1H
X-Robots-Tag:noindex
X-PUBLISHED-TTL:PT1H
BEGIN:VTIMEZONE
TZID:Europe/Helsinki
BEGIN:DAYLIGHT
TZOFFSETFROM:+0200
TZOFFSETTO:+0300
TZNAME:EEST
DTSTART:20240331T010000
END:DAYLIGHT
BEGIN:STANDARD
TZOFFSETFROM:+0300
TZOFFSETTO:+0200
TZNAME:EET
DTSTART:20241027T010000
END:STANDARD
END:VTIMEZONE
BEGIN:VEVENT
DTSTART;TZID=Europe/Helsinki:20240512T194500
DTEND;TZID=Europe/Helsinki:20240512T230000
DTSTAMP:20260419T151451
CREATED:20240419T133211Z
LAST-MODIFIED:20240430T093210Z
UID:8098-1715543100-1715554800@www.oliopoldo.it
SUMMARY:OLTREOCIBO - La serata riservata al benessere
DESCRIPTION:OLTREOCIBO \n12 maggio 2024 – Inizio evento ore 19:45 \nOltreocibo vi farà immergere nel piacere enogastronomico e della cura del corpo\, in un percorso di abbinamento tra cibo\, vino e cosmesi \nLa serata prevede quattro portate\, in abbinamento a quattro vini e a quattro prodotti cosmetici a base del nostro olio\nGENUINO\n– Finger food come entrée\n– Franciacorta Satén DOGC “Carpe Diem” 2021\, Bonfadini\n– Crema mani \nELEGANTE\n– Millefoglie di cappellacci con croccante di parmigiano e lamelle di Tartufo Nero\n– Verdicchio dei Castelli di Jesi Classico Superiore il Priore 2021\, Sparapani\n– Crema Viso \nCONCRETO\n– Come un vitello tonnato in versione gourmet\n– Arghilos Bianco IGT Marche 2021\, Fioretti Brera\n– Crema Corpo \nDOLCE\n– Mousse al cioccolato fondente 72%\,olio evo e sale maldon su una base di mandorle salate\n– ArteMia Vermut\n– Scrub corpo \nl’esperienza ha un prezzo di €50\,00\ninfo e prenotazioni al 388 371 7338 (Federico) \nCondividi
URL:https://www.oliopoldo.it/event/oltreocibo-la-serata-riservata-al-benessere/
LOCATION:Boutique Olio Poldo\, Via Crucianelli 1\, Castelfidardo\, 60022\, Italia
ATTACH;FMTTYPE=image/png:https://www.oliopoldo.it/wp-content/uploads/2024/04/food-cosmesi-wine-and-cheese-party-1.png
ORGANIZER;CN="FedPol":MAILTO:federico.polacco@oliopoldo.it
END:VEVENT
BEGIN:VEVENT
DTSTART;TZID=Europe/Helsinki:20240424T191500
DTEND;TZID=Europe/Helsinki:20240424T230000
DTSTAMP:20260419T151451
CREATED:20240327T144000Z
LAST-MODIFIED:20240327T144000Z
UID:8000-1713986100-1713999600@www.oliopoldo.it
SUMMARY:BEVI - DEGUSTA - DIVERTITI Torna il Wine and Cheese party
DESCRIPTION:MERCOLEDÌ 24 APRILE – inizio evento ore 19:15 \nTorna presso la Boutique del gusto il Wine and Cheese party\, format unico che vi porterà in un percorso degustativo innovativo tra vini e formaggi di altissima qualità da tutta  Italia e non solo. Terminata la degustazione va in scena la cena\, un vero party enogastronomico\, che come protagonista vede la cucina mediterranea: l’abbinamento di sapori semplici utilizzando materie prime ricercate. \nCi sarà un unica tavola\, la quale permetterà di conoscere nuove persone\, idee e passioni\, in un ambiente rilassante e stimolante. \nIl nostro obiettivo? farvi vivere una serata “DIVERSA”\, dalla quale possiate uscirne ARRICCHITI \nil prezzo dell’esperienza è di €50\,00 e comprende tutto \ninfo e prenotazioni al 3883717338 (Federico) \nCondividi
URL:https://www.oliopoldo.it/event/bevi-degusta-divertiti-torna-il-wine-and-cheese-party/
LOCATION:Boutique Olio Poldo\, Via Crucianelli 1\, Castelfidardo\, 60022\, Italia
ATTACH;FMTTYPE=image/png:https://www.oliopoldo.it/wp-content/uploads/2024/03/IMG_0931.png
ORGANIZER;CN="FedPol":MAILTO:federico.polacco@oliopoldo.it
END:VEVENT
BEGIN:VEVENT
DTSTART;TZID=Europe/Helsinki:20240407T191500
DTEND;TZID=Europe/Helsinki:20240407T230000
DTSTAMP:20260419T151451
CREATED:20240308T150302Z
LAST-MODIFIED:20240328T141513Z
UID:7665-1712517300-1712530800@www.oliopoldo.it
SUMMARY:L'olio evo in cucina con chef Alessandro Rapisarda - Degustazione e cena showcooking
DESCRIPTION:L’OLIO EVO IN CUCINA CON CHEF ALESSANDRO RAPISARDA – DEGUSTAZIONE E CENA SHOWCOOKING\n•\n•\n•\nDomenica 7 aprile\n\n\nA seguito di una degustazione di tre diversi oli evo in abbinamento a tre vegetali\, Alessandro Rapisarda \, chef del Ristorante Casa Rapisarda racconterà e preparerà un menu a base di olio evo\n\n\nIl racconto verrà accompagnato dai vini della Casa Vinicola Garofoli di Castelfidardo\n\n\nL’unione di realtà del territorio d’eccellenza trasformano i sogni in realtà\n\n\nIl prezzo dell’esperienza è di €50\,00\n\n\ninfo e prenotazioni al 388 371 7338 (Federico)\n\n  \nCondividi
URL:https://www.oliopoldo.it/event/degustazione-di-olio-evo-con-assaggio-e-showcooking-by-chef-alessandro-rapisarda-di-casa-rapisarda/
LOCATION:Boutique Olio Poldo\, Via Crucianelli 1\, Castelfidardo\, 60022\, Italia
ATTACH;FMTTYPE=image/jpeg:https://www.oliopoldo.it/wp-content/uploads/2024/03/04_Allestimenti-e-Reportage_144-1024x683-2.jpg
ORGANIZER;CN="FedPol":MAILTO:federico.polacco@oliopoldo.it
END:VEVENT
BEGIN:VEVENT
DTSTART;TZID=Europe/Helsinki:20240324T191500
DTEND;TZID=Europe/Helsinki:20240324T230000
DTSTAMP:20260419T151451
CREATED:20240308T145455Z
LAST-MODIFIED:20240312T101931Z
UID:7659-1711307700-1711321200@www.oliopoldo.it
SUMMARY:BEVI - DEGUSTA - DIVERTITI  Wine and Cheese Party
DESCRIPTION:DOMENICA 24 MARZO \nIl party enogastronomico di cui hai bisogno! Abbinamento di formaggi e vino in una piacevole serata in equilibrio tra semplicità e ricercatezza! \n\nIl nostro Wine and cheese party è un percorso che alterna il piacere di conoscere al divertimento\, la semplicità alla ricercatezza. l’esperienza inizia alle 19:15 con una degustazione di tre formaggi in abbinamento a tre vini Si prosegue con la cena / party con un menu alternativo\, Vi sorprenderemo! \nCosto dell’esperienza 45\,00€ a persona / comprende TUTTO \nInfo e prenotazioni al +39 388 371 7338 \n\n   \n\n  \nCondividi
URL:https://www.oliopoldo.it/event/bevi-degusta-divertiti-wine-and-cheese-party/
LOCATION:Boutique Olio Poldo\, Via Crucianelli 1\, Castelfidardo\, 60022\, Italia
ATTACH;FMTTYPE=image/png:https://www.oliopoldo.it/wp-content/uploads/2024/03/WINE-and-CHEESE-PARTY-1.png
ORGANIZER;CN="FedPol":MAILTO:federico.polacco@oliopoldo.it
END:VEVENT
BEGIN:VEVENT
DTSTART;TZID=Europe/Helsinki:20240310T191500
DTEND;TZID=Europe/Helsinki:20240310T230000
DTSTAMP:20260419T151452
CREATED:20240229T134610Z
LAST-MODIFIED:20240229T134610Z
UID:7646-1710098100-1710111600@www.oliopoldo.it
SUMMARY:Degustazione di Olio EVO con assaggio e POLENTATA con il Mulino Bravi by chef Alessandro Borghesan
DESCRIPTION:👉🏼DOMENICA 10 MARZO👈🏼 \n• Degustazione di olio evo con assaggio🌿\n• Storia e prodotti del @mulinobravi 📃\n• Showcooking e cena by chef Alessandro Borghesan di @il_laboratorio_octofood con prodotti del Mulino Bravi 🍽 \n✅Tutto in una sera✅ \n➡Costo dell’esperienza 35\,00€ a persona / comprende anche un calice di vino⬅ \n📲Info e prenotazioni al 388 371 7338 \n \nCondividi
URL:https://www.oliopoldo.it/event/degustazione-di-olio-evo-con-assaggio-e-polentata-con-il-mulino-bravi-by-chef-alessandro-borghesan/
LOCATION:Boutique Olio Poldo\, Via Crucianelli 1\, Castelfidardo\, 60022\, Italia
ATTACH;FMTTYPE=image/webp:https://www.oliopoldo.it/wp-content/uploads/2024/02/WhatsApp_Image_2021-05-12_at_16.35.18_1_720x.webp
ORGANIZER;CN="FedPol":MAILTO:federico.polacco@oliopoldo.it
END:VEVENT
BEGIN:VEVENT
DTSTART;TZID=Europe/Helsinki:20240224T191500
DTEND;TZID=Europe/Helsinki:20240224T233000
DTSTAMP:20260419T151452
CREATED:20240214T082003Z
LAST-MODIFIED:20240220T152206Z
UID:7608-1708802100-1708817400@www.oliopoldo.it
SUMMARY:Masterclass di cocktail Varnelli e showcooking con ricette Varnelli
DESCRIPTION:Sky is the limit! \nSabato 24 febbraio presso la nostra Boutique del gusto si svolgerà un evento unico:\nUna masterclass di cocktail Varnelli seguita da uno showcooking a base di ricette Varnelli \nLa Distilleria Varnelli  sarà presente e vi racconterà la loro storia\, presentando due cocktail a testa come aperitivo. La serata continuerà poi con un piacevole showcooking con ricette by Chef Fabio Romagnoli a base di Varnelli. \nIl menù della serata sarà il seguente:  \nAPETIZER \nCrostino all’olio EVO con burro mantecato al Varnelli ed origano\nCozze al Varnelli con pomodorini e rosmarino \nPORTATA\nFettuccine Filotea al Varnelli con cozze \nFINALE\nChantilly aromatizzato al Varnelli su pan di spagna al Caffè Moka con frutti di bosco \nInsomma\, un evento così non vi capita tutti i giorni! VI ASPETTIAMO… I POSTI SONO LIMITATIIIIII \nVia Crucianelli 1\, Castelfidardo \ninfo e prenotazioni -> 388 371 7338 (Federico) \n \nCondividi
URL:https://www.oliopoldo.it/event/masterclass-di-cocktail-varnelli-e-showcooking-con-ricette-varnelli/
LOCATION:Boutique Olio Poldo\, Via Crucianelli 1\, Castelfidardo\, 60022\, Italia
ATTACH;FMTTYPE=image/jpeg:https://www.oliopoldo.it/wp-content/uploads/2024/02/nuvolone_0.jpg
ORGANIZER;CN="FedPol":MAILTO:federico.polacco@oliopoldo.it
END:VEVENT
BEGIN:VEVENT
DTSTART;TZID=Europe/Helsinki:20240211T191500
DTEND;TZID=Europe/Helsinki:20240211T223000
DTSTAMP:20260419T151452
CREATED:20240205T143803Z
LAST-MODIFIED:20240205T161449Z
UID:7568-1707678900-1707690600@www.oliopoldo.it
SUMMARY:Lezione sull’olio EVO e showcooking della Macelleria Samorina
DESCRIPTION:Lezione sull’olio EVO con lo strippaggio\, che è il metodo professionale di assaggio dell’olio\, e showcooking della MACELLERIA SAMORINA.  \nIl menu della serata prevede: \nAppetizer \n– Straccetti caramellati di Vitellone Bianco dell’Appennino Centrale IGP razza Marchigiana con capperi ed olive taggiasca \n– Battuta al coltello di Vitellone Bianco dell’Appennino Centrale IGP razza Marchigiana \nPortata \n– Tagliata di vitellone bianco dell’Appennino Centrale IGP razza Marchigiana \nFinale \n– Mousse di yogurt greco su un biscotto croccante con olio Poldo evo lime e zenzero \n \nIl prezzo dell’esperienza è di 35\,00€ a persona e comprende anche acqua e un calice di vino \nInfo e prenotazioni: 3883717338 \nCondividi
URL:https://www.oliopoldo.it/event/lezione-sullolio-evo-e-showcooking-della-macelleria-samorina-2/
LOCATION:Boutique Olio Poldo\, Via Crucianelli 1\, Castelfidardo\, 60022\, Italia
ATTACH;FMTTYPE=image/jpeg:https://www.oliopoldo.it/wp-content/uploads/2024/01/IMG-20240130-WA0017.jpg
ORGANIZER;CN="FedPol":MAILTO:federico.polacco@oliopoldo.it
END:VEVENT
BEGIN:VEVENT
DTSTART;TZID=Europe/Helsinki:20240203T170000
DTEND;TZID=Europe/Helsinki:20240203T200000
DTSTAMP:20260419T151452
CREATED:20240123T145112Z
LAST-MODIFIED:20240123T145112Z
UID:7483-1706979600-1706990400@www.oliopoldo.it
SUMMARY:ISOLATION -> Exhibation by Alessandro Scattolini
DESCRIPTION:ISOLATION – Join us on February 3rd\, from 5pm to 8pm\, for the start of our 10th anniversary celebrations! “Isolation” is a photographic exhibition by Alessandro Scattolini\, with the live music experience on the piano by Gianluca Pierini. The island of Olkhon in Siberia\, the sacred element of ice\, the improvisation on the solo piano by Gianluca Pierini.\nAnd during the exhibition\, Kòmaros rosé wine and oils from the Olio Poldo company will be available for tasting.\nSave the date and bring a friend!\nCondividi
URL:https://www.oliopoldo.it/event/isolation-exhibation-by-alessandro-scattolini/
LOCATION:Scattolini Studio\, Via Biagi e d'Antona\, 5\, Loreto\, Ancona\, 60025\, Italia
ATTACH;FMTTYPE=image/png:https://www.oliopoldo.it/wp-content/uploads/2024/01/carosello2.png
END:VEVENT
BEGIN:VEVENT
DTSTART;TZID=Europe/Helsinki:20240128T190000
DTEND;TZID=Europe/Helsinki:20240128T230000
DTSTAMP:20260419T151452
CREATED:20240119T101950Z
LAST-MODIFIED:20240122T143224Z
UID:7454-1706468400-1706482800@www.oliopoldo.it
SUMMARY:Lezione sull'olio EVO e showcooking della Macelleria Samorina
DESCRIPTION:Lezione sull’olio EVO con lo strippaggio\, che è il metodo professionale di assaggio dell’olio\, e showcooking della MACELLERIA SAMORINA.  \nIl menu della serata prevede: \nAppetizer \n– Straccetti caramellati di Vitellone Bianco dell’Appennino Centrale IGP razza Marchigiana con capperi ed olive taggiasca \n– Battuta al coltello di Vitellone Bianco dell’Appennino Centrale IGP razza Marchigiana \nPortata \n– Tagliata di vitellone bianco dell’Appennino Centrale IGP razza Marchigiana \nFinale \n– Mousse di yogurt greco su un biscotto croccante con olio Poldo evo lime e zenzero \n \nIl prezzo dell’esperienza è di 35\,00€ a persona e comprende anche acqua e un calice di vino \nInfo e prenotazioni: 3883717338 \nCondividi
URL:https://www.oliopoldo.it/event/lezione-sullolio-evo-e-showcooking-della-macelleria-samorina/
LOCATION:Boutique Olio Poldo\, Via Crucianelli 1\, Castelfidardo\, 60022\, Italia
ATTACH;FMTTYPE=image/jpeg:https://www.oliopoldo.it/wp-content/uploads/2024/01/61613845_2343769775669464_6710691056297443328_o.jpg
END:VEVENT
BEGIN:VEVENT
DTSTART;TZID=Europe/Helsinki:20240121T190000
DTEND;TZID=Europe/Helsinki:20240121T230000
DTSTAMP:20260419T151452
CREATED:20240118T104704Z
LAST-MODIFIED:20240119T103948Z
UID:7440-1705863600-1705878000@www.oliopoldo.it
SUMMARY:Lezione sull'olio EVO e showcooking di OCTOFOOD
DESCRIPTION:Lezione sull’olio EVO con lo strippaggio\, che è il metodo professionale di assaggio dell’olio\, e showcooking di OCTOFOOD: questa è la vera NOVITÀ di gennaio. \n \n  \n  \n  \n  \n  \n  \n  \n  \n  \nIl menu dell’evento è il seguente: \nApetizer\n– Frittatina ai porcini con fonduta di taleggio e granella di nocciole\n– Baccalà mantecato con crostino di polenta e verza candita\nPortata\n– Risotto allo zafferano con boccone di ossobuco in “gremolada” mantecato con olio Poldo al parmigiano\nFinale\n– Mousse di yogurt greco su un biscotto croccante con olio Poldo evo lime e zenzero \n  \n  \nIl costo dell’esperienza è di 35\,00€\, comprende acqua e vino\, oltre alla lezione e allo showcooking. I posti stanno terminando\, vi aspettiamo! \nCondividi
URL:https://www.oliopoldo.it/event/lezione-sullolio-evo-e-showcooking-di-octofood/
LOCATION:Boutique Olio Poldo\, Via Crucianelli 1\, Castelfidardo\, 60022\, Italia
ATTACH;FMTTYPE=image/jpeg:https://www.oliopoldo.it/wp-content/uploads/2024/01/414007511_690995183147406_4470027974558834787_n.jpg
ORGANIZER;CN="FedPol":MAILTO:federico.polacco@oliopoldo.it
END:VEVENT
END:VCALENDAR